BEGIN:VCALENDAR
VERSION:2.0
PRODID:-//ChamberMaster//Event Calendar 2.0//EN
METHOD:PUBLISH
X-PUBLISHED-TTL:P3D
REFRESH-INTERVAL:P3D
CALSCALE:GREGORIAN
BEGIN:VEVENT
DTSTART:20261204T133000Z
DTEND:20261204T143000Z
X-MICROSOFT-CDO-ALLDAYEVENT:FALSE
SUMMARY:First Friday Business Breakfast
DESCRIPTION:
X-ALT-DESC;FMTTYPE=text/html:
LOCATION:
UID:e.3231.3411
SEQUENCE:3
DTSTAMP:20260424T191310Z
URL:https://business.guilderlandchamber.com/events/details/first-friday-business-breakfast-12-04-2026-3411
END:VEVENT

END:VCALENDAR
