BEGIN:VCALENDAR
VERSION:2.0
PRODID:-//ChamberMaster//Event Calendar 2.0//EN
METHOD:PUBLISH
X-PUBLISHED-TTL:P3D
REFRESH-INTERVAL:P3D
CALSCALE:GREGORIAN
BEGIN:VEVENT
DTSTART:20241101T123000Z
DTEND:20241101T133000Z
X-MICROSOFT-CDO-ALLDAYEVENT:FALSE
SUMMARY:First Friday Breakfast
DESCRIPTION:Chris Farrell - Vanguard-Fine LLC
X-ALT-DESC;FMTTYPE=text/html:Chris Farrell - Vanguard-Fine LLC
LOCATION:Hone CoWorks 300 Great Oaks Blvd Albany\, NY 12203
UID:e.3231.2838
SEQUENCE:3
DTSTAMP:20260425T040406Z
URL:https://business.guilderlandchamber.com/events/details/first-friday-breakfast-11-01-2024-2838
END:VEVENT

END:VCALENDAR
