BEGIN:VCALENDAR
VERSION:2.0
PRODID:-//ChamberMaster//Event Calendar 2.0//EN
METHOD:PUBLISH
X-PUBLISHED-TTL:P3D
REFRESH-INTERVAL:P3D
CALSCALE:GREGORIAN
BEGIN:VEVENT
DTSTART:20240111T233000Z
DTEND:20240112T013000Z
X-MICROSOFT-CDO-ALLDAYEVENT:FALSE
SUMMARY:Fear of Flying Class
DESCRIPTION:Doctor Griffan Randall\, a Capital Region based psychiatrist will discuss phobias and proven techniques to manage your fears.\n\n\n\n \n\nRick Weiss\, a former Southwest Airlines pilot\, will also explain aviation\, how the aircraft functions and answer your questions about turbulence\, lighting and more.
X-ALT-DESC;FMTTYPE=text/html:<p class="p1" style="margin: 0px\; font-variant-numeric: normal\; font-variant-east-asian: normal\; font-variant-alternates: normal\; font-kerning: auto\; font-optical-sizing: auto\; font-feature-settings: normal\; font-variation-settings: normal\; font-variant-position: normal\; font-stretch: normal\; font-size: 18px\; line-height: normal\; font-family: Helvetica\; color: rgb(22\, 45\, 106)\;">Doctor Griffan Randall\, a Capital Region based psychiatrist will discuss phobias and proven techniques to manage your fears.<br />\n<br />\n&nbsp\;</p>\n\n<p class="p1" style="margin: 0px\; font-variant-numeric: normal\; font-variant-east-asian: normal\; font-variant-alternates: normal\; font-kerning: auto\; font-optical-sizing: auto\; font-feature-settings: normal\; font-variation-settings: normal\; font-variant-position: normal\; font-stretch: normal\; font-size: 18px\; line-height: normal\; font-family: Helvetica\; color: rgb(22\, 45\, 106)\;">Rick Weiss\, a former Southwest Airlines pilot\, will also explain aviation\, how the aircraft functions and answer your questions about turbulence\, lighting and more.</p>\n
LOCATION:Albany International Airport
UID:e.3231.2705
SEQUENCE:3
DTSTAMP:20260426T001307Z
URL:https://business.guilderlandchamber.com/events/details/fear-of-flying-class-2705
END:VEVENT

END:VCALENDAR
