BEGIN:VCALENDAR
VERSION:2.0
PRODID:-//ChamberMaster//Event Calendar 2.0//EN
METHOD:PUBLISH
X-PUBLISHED-TTL:P3D
REFRESH-INTERVAL:P3D
CALSCALE:GREGORIAN
BEGIN:VEVENT
DTSTART:20240113T210000Z
DTEND:20240113T230000Z
X-MICROSOFT-CDO-ALLDAYEVENT:FALSE
SUMMARY:Family Fun Night
DESCRIPTION:Bounce House/Gaga\n	Arts and Crafts\n	Snacks Provided\n	Swim Evaluations- find out what swim lesson level you should register for- bring a suit/towel\n	Ping Pong... and more!
X-ALT-DESC;FMTTYPE=text/html:<ul>\n	<li>Bounce House/Gaga</li>\n	<li>Arts and Crafts</li>\n	<li>Snacks Provided</li>\n	<li>Swim Evaluations- find out what swim lesson level you should register for- bring a suit/towel</li>\n	<li>Ping Pong... and more!</li>\n</ul>\n
LOCATION:Guilderland YMCA
UID:e.3231.2735
SEQUENCE:3
DTSTAMP:20260426T001345Z
URL:https://business.guilderlandchamber.com/events/details/family-fun-night-2735
END:VEVENT

END:VCALENDAR
