BEGIN:VCALENDAR
VERSION:2.0
PRODID:-//ChamberMaster//Event Calendar 2.0//EN
METHOD:PUBLISH
X-PUBLISHED-TTL:P3D
REFRESH-INTERVAL:P3D
CALSCALE:GREGORIAN
BEGIN:VEVENT
DTSTART:20231021T160000Z
DTEND:20231021T190000Z
X-MICROSOFT-CDO-ALLDAYEVENT:FALSE
SUMMARY:Fall Open House & "Cram the Closet" Donation Event
DESCRIPTION:Fall Open House & "Cram The Closet" Donation Event\n\nStop in for some cider and donuts and check out where we operate! We will be accepting donations at this event\, trying to "Cram The Closet"! We will be raffling off a "Family Fun" gift basket valued at $250. Tickets are $3 each\, 2 for $5\, 5 for $10\, or 20 for $20. Contact The Caring Closet to purchase.
X-ALT-DESC;FMTTYPE=text/html:Fall Open House &amp\; &quot\;Cram The Closet&quot\; Donation Event<br />\nStop in for some cider and donuts and check out where we operate! We will be accepting donations at this event\, trying to &quot\;Cram The Closet&quot\;! We will be raffling off a &quot\;Family Fun&quot\; gift basket valued at $250. Tickets are $3 each\, 2 for $5\, 5 for $10\, or 20 for $20. Contact The Caring Closet to purchase.
LOCATION:The Caring Closet 4 Charles Blvd Guilderland
UID:e.3231.2676
SEQUENCE:3
DTSTAMP:20260426T043915Z
URL:https://business.guilderlandchamber.com/events/details/fall-open-house-cram-the-closet-donation-event-2676
END:VEVENT

END:VCALENDAR
