BEGIN:VCALENDAR
VERSION:2.0
PRODID:-//ChamberMaster//Event Calendar 2.0//EN
METHOD:PUBLISH
X-PUBLISHED-TTL:P3D
REFRESH-INTERVAL:P3D
CALSCALE:GREGORIAN
BEGIN:VEVENT
DTSTART:20240417T200000Z
DTEND:20240417T230000Z
X-MICROSOFT-CDO-ALLDAYEVENT:FALSE
SUMMARY:Exclusive Members Only Networking Mixer at Hamilton Parc
DESCRIPTION:Exclusive Members Only Networking Mixer at Hamilton Parc
X-ALT-DESC;FMTTYPE=text/html:Exclusive Members Only Networking Mixer at Hamilton Parc<br />\n&nbsp\;
LOCATION:Hamilton Parc 6051 State Farm Road Guilderland\, NY 12084
UID:e.3231.2789
SEQUENCE:3
DTSTAMP:20260425T194948Z
URL:https://business.guilderlandchamber.com/events/details/exclusive-members-only-networking-mixer-at-hamilton-parc-2789
END:VEVENT

END:VCALENDAR
