BEGIN:VCALENDAR
VERSION:2.0
PRODID:-//ChamberMaster//Event Calendar 2.0//EN
METHOD:PUBLISH
X-PUBLISHED-TTL:P3D
REFRESH-INTERVAL:P3D
CALSCALE:GREGORIAN
BEGIN:VEVENT
DTSTART:20240131T213000Z
DTEND:20240131T223000Z
X-MICROSOFT-CDO-ALLDAYEVENT:FALSE
SUMMARY:Empire State Winter Games Torch Relay Stops at Phillips Hardware
DESCRIPTION:Empire State Winter Games Torch Relay Stops at Phillips Hardware\n\n \n\nSTRIDE Sled Hockey Team to Pass the Torch as they prepare for Empire Games\n\n \n\nAltamont\, NY   The torch relay parade for New York's largest sporting event will make a scheduled stop in the Capital Region on its way to Lake Placid. The Empire State Winter Games torch will be coming to Phillips Hardware in Altamont on Wednesday\, January 31 at 4:30 PM.\n\n \n\nThe stop will honor STRIDE's Sled Warriors\, a sled hockey team of local athletes with disabilities\, who will have their photo taken with the torch. The team\, which won a silver medal in last year's games\, is hungry for gold this year and looking for a supportive send off from the community. Festivities will kick off at 4:15 pm and will include a short ceremony with remarks from the torch bearer. Light refreshments will be served\, and the public is welcome to attend. Local government representatives will be in attendance to speak.\n\n \n\nThe 700 mile trip of the torch is symbolic of the games uniting the entire state in friendly competition which is inclusive of athletes with disabilities. Just as fast-paced and physical as stand-up hockey\, sled hockey follows most of the typical ice hockey rules with the exception of equipment. Players in this Paralympic sport sit in specially designed sleds with two hockey skate blades\, and each player uses two sticks instead of one. There are 4 sled hockey teams in New York.\n\n \n\nAccording to STRIDE Adaptive Sports founder and CEO\, Mary Ellen Whitney\, the games are a time for athletes with disabilities to shine and be recognized for their hard work\, daily struggles\, and positive attitude. "I founded STRIDE to promote equal opportunity in sports no matter what the disability\," said Whitney. "Regionally\, people are learning more of the resilience of these hometown athletes\, their interesting sports\, and their hard work to overcome daily struggles. Sled hockey is challenging both physically and skill-wise. The Union Hockey men's and women's Division 1 hockey teams found this out firsthand when they took to sleds and scrimmaged the team recently. Now\, we are sending the team to Lake Placid to go for the gold\, and I am happy they will get recognition on a broader level."\n\n \n\nThe team features athletes with various physical and developmental disabilities who range in ages from 12-60 years old\, including 4 local disabled veterans. It is a great opportunity for players to not only be active and meet a support network of their local peers\, but to\, in the words of athlete Brenda Jensis\, experience freedom. "My week is about looking forward to pulling my jersey over my head\, snapping my helmet on\, getting in my sled\, and feeling free again. To me the team is about feeling free\, together. It's about being there for each other\, being competitive together\, including winning and losing together. It's pushing each other to be your best without letting our disabilities limit our abilities."\n\n \n\nThere are significant expenses associated with the team and its trip to the Empire State Winter Games this year. Anyone wishing to help defray the cost with a donation can give at .   Opportunity is open for athletes over the age of 10 on Sunday practices at the Albany Hockey Facility.  Newcomers are invited to join the team on the ice to try the sled on the first Sunday of each month. Please RSVP to at aryan@stride.org  or call STRIDE's office at (518)-598-1279. \n\n \n\n###\n\n \n\n \n\nAbout STRIDE Adaptive Sports\n\nCelebrating 39 years of service to the community\, STRIDE Adaptive Sports is a 501(c)(3) nonprofit organization that provides over 17\,000 adaptive sport and recreation lessons each year to individuals with disabilities\, focusing on youth and Wounded Warriors. With office headquarters in New York's Capital Region\, STRIDE offers programs in over 18 different sports to more than 2500 families at 28+ regional locations each year. With an emphasis on individual life-time sports\, STRIDE programs use specialized equipment or teaching aids for successful participation to "level the playing field" for all. STRIDE is a partner member of Move United USA and Professional Ski Instructors of America\; a US Paralympic Sport Club\; a training club for New York Special Olympics.. STRIDE is recognized as one of the leading adaptive sport programs in the Northeastern United States. More information about STRIDE Adaptive Sports can be found at www.stride.org
X-ALT-DESC;FMTTYPE=text/html:<strong><span style="color:#222222\;"><span style="font-family:garamond\,serif\;"><span style="font-size:14pt\;">Empire State Winter Games Torch Relay Stops at Phillips Hardware</span></span></span></strong><br />\n&nbsp\;<br />\n<strong><span style="color:#222222\;"><span style="font-family:garamond\,serif\;"><span style="font-size:11pt\;">STRIDE <em>Sled Hockey Team to Pass the Torch as they prepare for Empire Games</em></span></span></span></strong><br />\n&nbsp\;<br />\n<strong><span style="font-family:garamond\,serif\;"><span style="font-size:11pt\;">Altamont\, NY &ndash\; </span></span></strong><span style="font-family:garamond\,serif\;"><span style="font-size:11pt\;">The torch relay parade for New York&rsquo\;s largest sporting event will make a scheduled stop in the Capital Region on its way to Lake Placid. The Empire State Winter Games torch will be coming to Phillips Hardware in Altamont on Wednesday\, January 31 at 4:30 PM.</span></span><br />\n&nbsp\;<br />\n<span style="font-family:garamond\,serif\;"><span style="font-size:11pt\;">The stop will honor STRIDE&rsquo\;s Sled Warriors\, a sled hockey team of local athletes with disabilities\, who will have their photo taken with the torch. The team\, which won a silver medal in last year&rsquo\;s games\, is hungry for gold this year and looking for a supportive send off from the community. Festivities will kick off at 4:15 pm and will include a short ceremony with remarks from the torch bearer. Light refreshments will be served\, and the public is welcome to attend. Local government representatives will be in attendance to speak.</span></span><br />\n&nbsp\;<br />\n<span style="font-family:garamond\,serif\;"><span style="font-size:11pt\;">The 700 mile trip of the torch is symbolic of the games uniting the entire state in friendly competition which is inclusive of athletes with disabilities. Just as fast-paced and physical as stand-up hockey\, sled hockey follows most of the typical ice hockey rules with the exception of equipment. Players in this Paralympic sport sit in specially designed sleds with two hockey skate blades\, and each player uses two sticks instead of one. There are 4 sled hockey teams in New York.</span></span><br />\n&nbsp\;<br />\n<span style="font-family:garamond\,serif\;"><span style="font-size:11pt\;">According to STRIDE Adaptive Sports founder and CEO\, Mary Ellen Whitney\, the games are a time for athletes with disabilities to shine and be recognized for their hard work\, daily struggles\, and positive attitude. &ldquo\;I founded STRIDE to promote equal opportunity in sports no matter what the disability\,&rdquo\; said Whitney. &ldquo\;Regionally\, people are learning more of the resilience of these hometown athletes\, their interesting sports\, and their hard work to overcome daily struggles. Sled hockey is challenging both physically and skill-wise. The Union Hockey men&rsquo\;s and women&rsquo\;s Division 1 hockey teams found this out firsthand when they took to sleds and scrimmaged the team recently. Now\, we are sending the team to Lake Placid to go for the gold\, and I am happy they will get recognition on a broader level.&rdquo\;</span></span><br />\n&nbsp\;<br />\n<span style="font-family:garamond\,serif\;"><span style="font-size:11pt\;">The team features athletes with various physical and developmental disabilities who range in ages from 12-60 years old\, including 4 local disabled veterans. It is a great opportunity for players to not only be active and meet a support network of their local peers\, but to\, in the words of athlete Brenda Jensis\, experience freedom. &ldquo\;My week is about looking forward to pulling my jersey over my head\, snapping my helmet on\, getting in my sled\, and feeling free again. To me the team is about feeling free\, together. It&#39\;s about being there for each other\, being competitive together\, including winning and losing together. It&rsquo\;s pushing each other to be your best without letting our disabilities limit our abilities.&rdquo\;</span></span><br />\n&nbsp\;<br />\n<span style="font-family:garamond\,serif\;"><span style="font-size:11pt\;">There are significant expenses associated with the team and its trip to the Empire State Winter Games this year. Anyone wishing to help defray the cost with a donation can give at .&nbsp\;&nbsp\; Opportunity is open for athletes over the age of 10 on Sunday practices at the Albany Hockey Facility.&nbsp\; Newcomers are invited to join the team on the ice to try the sled on the first Sunday of each month. Please RSVP to at </span></span><a href="mailto:aryan@stride.org" style="color:blue\;"><span style="font-family:garamond\,serif\;"><span style="font-size:11pt\;">aryan@stride.org</span></span></a> <span style="font-family:garamond\,serif\;"><span style="font-size:11pt\;">&nbsp\;or call STRIDE&rsquo\;s office at (518)-598-1279.&nbsp\;</span></span><br />\n&nbsp\;<br />\n<span style="font-family:garamond\,serif\;"><span style="font-size:11pt\;">###</span></span><br />\n&nbsp\;<br />\n&nbsp\;<br />\n<u><span style="font-family:garamond\,serif\;"><span style="font-size:11pt\;">About STRIDE Adaptive Sports</span></span></u><br />\n<span style="font-family:garamond\,serif\;"><span style="font-size:11pt\;">Celebrating 39 years of service to the community\, STRIDE Adaptive Sports is a 501(c)(3) nonprofit organization that provides over 17\,000 adaptive sport and recreation lessons each year to individuals with disabilities\, focusing on youth and Wounded Warriors. With office headquarters in New York&rsquo\;s Capital Region\, STRIDE offers programs in over 18 different sports to more than 2500 families at 28+ regional locations each year. With an emphasis on individual life-time sports\, STRIDE programs use specialized equipment or teaching aids for successful participation to &ldquo\;level the playing field&rdquo\; for all. STRIDE is a partner member of <u>Move United USA</u> and <u>Professional Ski Instructors of America\;</u> a <u>US Paralympic Sport Club</u>\; a training club for <u>New York Special Olympics</u>.. STRIDE is recognized as one of the leading adaptive sport programs in the Northeastern United States. More information about STRIDE Adaptive Sports can be found at </span></span><a href="http://www.stride.org" style="color:blue\;"><span style="font-family:garamond\,serif\;"><span style="font-size:11pt\;">www.stride.or</span></span></a>g
LOCATION:Phillips Hardware 6495 Route 158 Altamont\, NY 12009
UID:e.3231.2747
SEQUENCE:3
DTSTAMP:20260426T001428Z
URL:https://business.guilderlandchamber.com/events/details/empire-state-winter-games-torch-relay-stops-at-phillips-hardware-2747
END:VEVENT

END:VCALENDAR
