BEGIN:VCALENDAR
VERSION:2.0
PRODID:-//ChamberMaster//Event Calendar 2.0//EN
METHOD:PUBLISH
X-PUBLISHED-TTL:P3D
REFRESH-INTERVAL:P3D
CALSCALE:GREGORIAN
BEGIN:VEVENT
DTSTART:20240427T140000Z
DTEND:20240427T180000Z
X-MICROSOFT-CDO-ALLDAYEVENT:FALSE
SUMMARY:DEA National Take Back
DESCRIPTION:DEA National Drug Take-Back will be held Saturday\, April 27th from 10AM-2PM in the Guilderland Public Library's Auxiliary Parking Lot- 2228 Western Avenue\n\nPlease follow these guidelines: \n\n\n	Please make sure to bag your medications if possible.\n	Put bagged medications in a place that you can easily access while remaining in your vehicle\, or place the bag in your trunk so an officer can retrieve it.\n	PLEASE NO SHARPS OR SYRINGES.\n	Please follow the Officer's instructions at time of drop off.
X-ALT-DESC;FMTTYPE=text/html:<p style="margin: 0px\; padding: 0px\; caret-color: rgb(64\, 63\, 66)\; color: rgb(64\, 63\, 66)\; font-family: Arial\, Verdana\, Helvetica\, sans-serif\; font-size: 12px\;"><span style="font-size: 13px\; color: rgb(0\, 0\, 0)\; font-family: Georgia\, &quot\;Times New Roman&quot\;\, Times\, serif\; line-height: 1.2\;">DEA National Drug Take-Back will be held Saturday\, April 27th from 10AM-2PM in the Guilderland Public Library&#39\;s Auxiliary Parking Lot- 2228 Western Avenue</span></p>\n\n<p align="center" style="margin: 0px\; padding: 0px\; caret-color: rgb(64\, 63\, 66)\; color: rgb(64\, 63\, 66)\; font-family: Arial\, Verdana\, Helvetica\, sans-serif\; font-size: 12px\; text-align: center\;"><span style="font-size: 13px\; color: rgb(0\, 0\, 0)\; text-decoration-line: underline\; font-family: Georgia\, &quot\;Times New Roman&quot\;\, Times\, serif\; line-height: 1.2\;">Please follow these guidelines: </span></p>\n\n<ul style="padding: 0px\; margin: 0px 0px 0px 40px\; caret-color: rgb(64\, 63\, 66)\; color: rgb(64\, 63\, 66)\; font-family: Arial\, Verdana\, Helvetica\, sans-serif\; font-size: 12px\;">\n	<li style="padding: 0px\; margin: 0px\; font-size: 13px\; color: rgb(0\, 0\, 0)\; font-family: Georgia\, &quot\;Times New Roman&quot\;\, Times\, serif\; line-height: 1.2\;"><span style="line-height: 1.2\;">Please make sure to bag your medications if possible.</span></li>\n	<li style="padding: 0px\; margin: 0px\; font-size: 13px\; color: rgb(0\, 0\, 0)\; font-family: Georgia\, &quot\;Times New Roman&quot\;\, Times\, serif\; line-height: 1.2\;"><span style="line-height: 1.2\;">Put bagged medications in a place that you can easily access while remaining in your vehicle\, or place the bag in your trunk so an officer can retrieve it.</span></li>\n	<li style="padding: 0px\; margin: 0px\; font-size: 13px\; color: rgb(0\, 0\, 0)\; font-family: Georgia\, &quot\;Times New Roman&quot\;\, Times\, serif\; line-height: 1.2\;"><span style="line-height: 1.2\;">PLEASE NO SHARPS OR SYRINGES.</span></li>\n	<li style="padding: 0px\; margin: 0px\; font-size: 13px\; color: rgb(0\, 0\, 0)\; font-family: Georgia\, &quot\;Times New Roman&quot\;\, Times\, serif\; line-height: 1.2\;"><span style="line-height: 1.2\;">Please follow the Officer&#39\;s instructions at time of drop off.</span></li>\n</ul>\n
LOCATION:Guilderland Public Library 2228 Western Avenue Guilderland\, NY 12084
UID:e.3231.2791
SEQUENCE:3
DTSTAMP:20260425T193302Z
URL:https://business.guilderlandchamber.com/events/details/dea-national-take-back-2791
END:VEVENT

END:VCALENDAR
