BEGIN:VCALENDAR
VERSION:2.0
PRODID:-//ChamberMaster//Event Calendar 2.0//EN
METHOD:PUBLISH
X-PUBLISHED-TTL:P3D
REFRESH-INTERVAL:P3D
CALSCALE:GREGORIAN
BEGIN:VEVENT
DTSTART:20240427T150000Z
DTEND:20240427T170000Z
X-MICROSOFT-CDO-ALLDAYEVENT:FALSE
SUMMARY:Clean Up Guilderland!
DESCRIPTION:Clean Up Guilderland!
X-ALT-DESC;FMTTYPE=text/html:Clean Up Guilderland!<br>\n<br>\n&nbsp\;
LOCATION:Throughout the Guilderland Community
UID:e.3231.2786
SEQUENCE:3
DTSTAMP:20260425T210211Z
URL:https://business.guilderlandchamber.com/events/details/clean-up-guilderland-2786
END:VEVENT

END:VCALENDAR
