BEGIN:VCALENDAR
VERSION:2.0
PRODID:-//ChamberMaster//Event Calendar 2.0//EN
METHOD:PUBLISH
X-PUBLISHED-TTL:P3D
REFRESH-INTERVAL:P3D
CALSCALE:GREGORIAN
BEGIN:VEVENT
DTSTART:20231118T190000Z
DTEND:20231118T230000Z
X-MICROSOFT-CDO-ALLDAYEVENT:FALSE
SUMMARY:Christ Child Society of Albany Holiday Shopping Extravaganza
DESCRIPTION:The Christ Child Society (CCS) of Albany invites you to a Holiday Shopping Extravaganza on Saturday\, November 18 from 2:00   6:00 pm in the St. Madeleine Sophie Parish Center\, 3500 Carman Road in Schenectady\, NY. Come start your holiday shopping with your favorite local vendors such as Tupperware\, Mary Kay\, Pampered Chef\, Sweet on You\, Holiday Paper Craft items and many more while enjoying some delicious snacks and desserts. Please join us to shop\, eat and socialize\, all while supporting the CCS ministries serving the children of our community.
X-ALT-DESC;FMTTYPE=text/html:The Christ Child Society (CCS) of Albany invites you to a Holiday Shopping Extravaganza on Saturday\, November 18 from 2:00 &ndash\; 6:00 pm in the St. Madeleine Sophie Parish Center\, 3500 Carman Road in Schenectady\, NY. Come start your holiday shopping with your favorite local vendors such as Tupperware\, Mary Kay\, Pampered Chef\, Sweet on You\, Holiday Paper Craft items and many more while enjoying some delicious snacks and desserts. Please join us to shop\, eat and socialize\, all while supporting the CCS ministries serving the children of our community.
LOCATION:St Madeleine Sophie Church 3500 Carman Road Schenectady\, NY 12303
UID:e.3231.2692
SEQUENCE:3
DTSTAMP:20260426T032220Z
URL:https://business.guilderlandchamber.com/events/details/christ-child-society-of-albany-holiday-shopping-extravaganza-2692
END:VEVENT

END:VCALENDAR
