BEGIN:VCALENDAR
VERSION:2.0
PRODID:-//ChamberMaster//Event Calendar 2.0//EN
METHOD:PUBLISH
X-PUBLISHED-TTL:P3D
REFRESH-INTERVAL:P3D
CALSCALE:GREGORIAN
BEGIN:VEVENT
DTSTART:20240427T143000Z
DTEND:20240427T180000Z
X-MICROSOFT-CDO-ALLDAYEVENT:FALSE
SUMMARY:Christ Child Society\, Albany Chapter Red Wagon Luncheon
DESCRIPTION:The Christ Child Society\, Albany Chapter is hosting a Red Wagon Luncheon and Fashion Show on Saturday\, April 27\, 2024 at the Italian American Community Center\, Washington Avenue Extension in Albany beginning with coffee and pastry at 10:30am followed by Fashion Show at 11:00am by J. Jill sharing unique and fashionable women's apparel\, accessories and footwear. Our models will be the members of the Christ Child Society. Please come and join us. All are welcome - reserve a table for friends and family to enjoy the event. Lunch will be served at 12:00pm. Selections are Chicken Parmesan with Penne Pasta\, Grilled Salmon in Lemon Basil Butter with rice\, and French Ratatouille over Polenta Cake (GF/DF/V). Adult reservations are $50.00 per person and child reservations are $20.00 per person to be paid in advance by either check or PayPal. There will be a drawing for many lovely theme baskets put together by volunteers\, along with door prizes. Your reservation is necessary no later than April 10 and cancellations a must. Please call Cathy Pastore at (518) 669-4446 for further information and to make your reservation(s}. If you are unable to attend\, please consider making a donation to assist the needy children of the Diocese of Albany.
X-ALT-DESC;FMTTYPE=text/html:The Christ Child Society\, Albany Chapter is hosting a Red Wagon Luncheon and Fashion Show on Saturday\, April 27\, 2024 at the Italian American Community Center\, Washington Avenue Extension in Albany beginning with coffee and pastry at 10:30am followed by Fashion Show at 11:00am by J. Jill sharing unique and fashionable women&rsquo\;s apparel\, accessories and footwear. Our models will be the members of the Christ Child Society. Please come and join us. All are welcome - reserve a table for friends and family to enjoy the event. Lunch will be served at 12:00pm. Selections are Chicken Parmesan with Penne Pasta\, Grilled Salmon in Lemon Basil Butter with rice\, and French Ratatouille over Polenta Cake (GF/DF/V). Adult reservations are $50.00 per person and child reservations are $20.00 per person to be paid in advance by either check or PayPal. There will be a drawing for many lovely theme baskets put together by volunteers\, along with door prizes. Your reservation is necessary no later than April 10 and cancellations a must. Please call Cathy Pastore at (518) 669-4446 for further information and to make your reservation(s}. If you are unable to attend\, please consider making a donation to assist the needy children of the Diocese of Albany.
LOCATION:Italian American Community Centr 257 Washington Avenue Ext. Albany\, NY
UID:e.3231.2769
SEQUENCE:3
DTSTAMP:20260425T195431Z
URL:https://business.guilderlandchamber.com/events/details/christ-child-society-albany-chapter-red-wagon-luncheon-2769
END:VEVENT

END:VCALENDAR
