BEGIN:VCALENDAR
VERSION:2.0
PRODID:-//ChamberMaster//Event Calendar 2.0//EN
METHOD:PUBLISH
X-PUBLISHED-TTL:P3D
REFRESH-INTERVAL:P3D
CALSCALE:GREGORIAN
BEGIN:VEVENT
DTSTART:20240227T210000Z
DTEND:20240227T220000Z
X-MICROSOFT-CDO-ALLDAYEVENT:FALSE
SUMMARY:GCC Board Meeting
DESCRIPTION:Monthly Chamber of Commerce Board of Directors Meeting\n\n\n\nChamber Membership is invited to speak from 4:10 pm-4:20 pm
X-ALT-DESC;FMTTYPE=text/html:Monthly Chamber of Commerce Board of Directors Meeting<br />\n<br />\nChamber&nbsp\;Membership is invited to speak from 4:10 pm-4:20 pm&nbsp\;
LOCATION:The Standard 1 Crossgates Mall Road Albany\, NY 12203
UID:e.3231.2719
SEQUENCE:3
DTSTAMP:20260425T223709Z
URL:https://business.guilderlandchamber.com/events/details/chamber-of-commerce-board-meeting-02-27-2024-2719
END:VEVENT

END:VCALENDAR
