BEGIN:VCALENDAR
VERSION:2.0
PRODID:-//ChamberMaster//Event Calendar 2.0//EN
METHOD:PUBLISH
X-PUBLISHED-TTL:P3D
REFRESH-INTERVAL:P3D
CALSCALE:GREGORIAN
BEGIN:VEVENT
DTSTART:20230131T220000Z
DTEND:20230201T010000Z
X-MICROSOFT-CDO-ALLDAYEVENT:FALSE
SUMMARY:Cause A Scene For A Good Cause
DESCRIPTION:Enjoy yourself and support our cause at a special fundraising event for:\n\nGirls Inc. of the Greater Capital Region
X-ALT-DESC;FMTTYPE=text/html:Enjoy yourself and support our cause at a special fundraising event for:<br />\nGirls Inc. of the Greater Capital Region
LOCATION:Blaze Mohawk Commons 400 Balltown Road\, Niskayuna
UID:e.3231.2613
SEQUENCE:3
DTSTAMP:20260421T122043Z
URL:https://business.guilderlandchamber.com/events/details/cause-a-scene-for-a-good-cause-2613
END:VEVENT

END:VCALENDAR
