BEGIN:VCALENDAR
VERSION:2.0
PRODID:-//ChamberMaster//Event Calendar 2.0//EN
METHOD:PUBLISH
X-PUBLISHED-TTL:P3D
REFRESH-INTERVAL:P3D
CALSCALE:GREGORIAN
BEGIN:VEVENT
DTSTART:20231114T163000Z
DTEND:20231114T183000Z
X-MICROSOFT-CDO-ALLDAYEVENT:FALSE
SUMMARY:Capital District Christian Women's Connection November Luncheon
DESCRIPTION:The New York Capital District Christian Women's Connection is sponsoring a "Holiday Shopping Extravaganza #1 luncheon on Tuesday\, November 14\, 2023 at the Guilderland Elks Lodge\, 3867 Carman Road in Schenectady\, NY 12303 beginning at 11:30am and ending at approximately 1:30pm. Please be prompt. Your reservation is necessary no later than November 8 and cancellations a must. Please call Nancy at (518) 320-2649 or Mae at (518) 895-8977 for reservations by November 8. On the menu this month is Turkey dinner with Pumpkin Pie for dessert with an alternative choice of Grilled Chicken Salad. The cost is $17.00 inclusive (cash only). Our Speaker is Patricia Wood from Vernon City\, NY who will speak on "Jesus\, Set Me Free from Unforgiveness". As for the Feature\, we will be having a Vendor Fair with wood crafts\, holiday d cor\, soap artistry\, candy treasures and homemade fabric items. Music will be Jim Kieper from Little Falls\, NY who will sing for us. All are welcome - bring a friend!!
X-ALT-DESC;FMTTYPE=text/html:The New York Capital District Christian Women&#39\;s Connection is sponsoring a &ldquo\;Holiday Shopping Extravaganza #1 luncheon on Tuesday\, November 14\, 2023 at the Guilderland Elks Lodge\, 3867 Carman Road in Schenectady\, NY 12303 beginning at 11:30am and ending at approximately 1:30pm. Please be prompt. Your reservation is necessary no later than November 8 and cancellations a must. Please call Nancy at (518) 320-2649 or Mae at (518) 895-8977 for reservations by November 8. On the menu this month is Turkey dinner with Pumpkin Pie for dessert with an alternative choice of Grilled Chicken Salad. The cost is $17.00 inclusive (cash only). Our Speaker is Patricia Wood from Vernon City\, NY who will speak on &ldquo\;Jesus\, Set Me Free from Unforgiveness&rdquo\;. As for the Feature\, we will be having a Vendor Fair with wood crafts\, holiday d&eacute\;cor\, soap artistry\, candy treasures and homemade fabric items. Music will be Jim Kieper from Little Falls\, NY who will sing for us. All are welcome - bring a friend!!
LOCATION:Guilderland Elks Lodge 3867 Carman Road Schenectady\, NY 12303
UID:e.3231.2690
SEQUENCE:3
DTSTAMP:20260426T032118Z
URL:https://business.guilderlandchamber.com/events/details/capital-district-christian-women-s-connection-november-luncheon-11-14-2023-2690
END:VEVENT

END:VCALENDAR
