BEGIN:VCALENDAR
VERSION:2.0
PRODID:-//ChamberMaster//Event Calendar 2.0//EN
METHOD:PUBLISH
X-PUBLISHED-TTL:P3D
REFRESH-INTERVAL:P3D
CALSCALE:GREGORIAN
BEGIN:VEVENT
DTSTART:20240213T163000Z
DTEND:20240213T183000Z
X-MICROSOFT-CDO-ALLDAYEVENT:FALSE
SUMMARY:Capital District Christian Women's Connection February Luncheon
DESCRIPTION:The New York Capital District Christian Women's Connection is sponsoring our February 2024 luncheon on Tuesday\, February 13\, 2024 at the Guilderland Elks Lodge\, 3867 Carman Road in Schenectady\, NY 12303 beginning at 11:30am and ending at approximately 1:30pm. Please be prompt. Your reservation is necessary no later than February 7 and cancellations a must. Please call Nancy at (518) 320-2649 or Mae at (518) 895-8977 for reservations by February 7. On the menu this month is Roast Beef Dinner with Cherry Pie with an alternative choice of Grilled Chicken Salad. The cost is $17.00 inclusive (cash only). Our Speaker is Jennifer Ebaugh from Evan City\, PA and will speak on "Running to Win" sharing about choices and consequences. As for the Feature\, again this year will be Steve Caporizzo\, News 10"s Chief Meteorologist will join us. Music will be Joe Kriss (Mr. Sinatra) who will sing for us. All are welcome - bring a friend!!
X-ALT-DESC;FMTTYPE=text/html:The New York Capital District Christian Women&#39\;s Connection is sponsoring our February 2024 luncheon on Tuesday\, February 13\, 2024 at the Guilderland Elks Lodge\, 3867 Carman Road in Schenectady\, NY 12303 beginning at 11:30am and ending at approximately 1:30pm. Please be prompt. Your reservation is necessary no later than February 7 and cancellations a must. Please call Nancy at (518) 320-2649 or Mae at (518) 895-8977 for reservations by February 7. On the menu this month is Roast Beef Dinner with Cherry Pie with an alternative choice of Grilled Chicken Salad. The cost is $17.00 inclusive (cash only). Our Speaker is Jennifer Ebaugh from Evan City\, PA and will speak on &ldquo\;Running to Win&rdquo\; sharing about choices and consequences. As for the Feature\, again this year will be Steve Caporizzo\, News 10&rdquo\;s Chief Meteorologist will join us. Music will be Joe Kriss (Mr. Sinatra) who will sing for us. All are welcome - bring a friend!!
LOCATION:Guilderland Elks Lodge 3867 Carman Road Schenectady\, NY 12303
UID:e.3231.2749
SEQUENCE:3
DTSTAMP:20260425T223950Z
URL:https://business.guilderlandchamber.com/events/details/capital-district-christian-women-s-connection-february-luncheon-02-13-2024-2749
END:VEVENT

END:VCALENDAR
