BEGIN:VCALENDAR
VERSION:2.0
PRODID:-//ChamberMaster//Event Calendar 2.0//EN
METHOD:PUBLISH
X-PUBLISHED-TTL:P3D
REFRESH-INTERVAL:P3D
CALSCALE:GREGORIAN
BEGIN:VEVENT
DTSTART:20240501T143000Z
DTEND:20240501T153000Z
X-MICROSOFT-CDO-ALLDAYEVENT:FALSE
SUMMARY:Beck's Ribbon Cutting & 90th Anniversary Celebration
DESCRIPTION:Ribbon Cutting at Beck's New Location \n\n\n\nBeck's is celebrating their 90th Anniversary!
X-ALT-DESC;FMTTYPE=text/html:Ribbon Cutting at Beck&#39\;s New Location&nbsp\;<br />\n<br />\nBeck&#39\;s is celebrating their 90th Anniversary!
LOCATION:595 Loudon Road Latham\, NY 12110
UID:e.3231.2798
SEQUENCE:3
DTSTAMP:20260425T193612Z
URL:https://business.guilderlandchamber.com/events/details/beck-s-ribbon-cutting-90th-anniversary-celebration-2798
END:VEVENT

END:VCALENDAR
