BEGIN:VCALENDAR
VERSION:2.0
PRODID:-//ChamberMaster//Event Calendar 2.0//EN
METHOD:PUBLISH
X-PUBLISHED-TTL:P3D
REFRESH-INTERVAL:P3D
CALSCALE:GREGORIAN
BEGIN:VEVENT
DTSTART:20240612T210000Z
DTEND:20240615T000000Z
X-MICROSOFT-CDO-ALLDAYEVENT:FALSE
SUMMARY:Annual Dinner & Awards
DESCRIPTION:2024 Guilderland Chamber of Commerce\n\nAnnual Dinner & Awards Celebration\n\n"Visions of Growth"\n\n\n\nHonoring the 2024 Award Winners\n\nGuilderland Chamber of Commerce\n\nSmall Business Person of the Year\, Chamber Champion\, Best Place to Work\n\nTown of Guilderland\n\nNew Commercial\, Renovations\, Worth a Detour
X-ALT-DESC;FMTTYPE=text/html:<div style="text-align: center\;"><span style="font-size:18px\;"><span style="color:#008000\;"><u><strong>2024 Guilderland Chamber of Commerce</strong></u></span></span></div>\n\n<div style="text-align: center\;"><span style="font-size:18px\;"><span style="color:#008000\;">Annual Dinner &amp\; Awards Celebration<br />\n&quot\;Visions of Growth&quot\;</span></span></div>\n\n<div style="text-align: center\;"><br />\n<span style="font-size:16px\;"><em>Honoring the 2024 Award Winners</em></span><br />\n<u>Guilderland Chamber of Commerce</u><br />\nSmall Business Person of the Year\, Chamber Champion\, Best Place to Work<br />\n<u>Town of Guilderland</u><br />\nNew Commercial\, Renovations\, Worth a Detour</div>\n
LOCATION:The Hedge Bistro Western Turnpike Golf Course 2350 Western Ave Guilderland\, NY 12084
UID:e.3231.2777
SEQUENCE:3
DTSTAMP:20260425T164715Z
URL:https://business.guilderlandchamber.com/events/details/annual-dinner-awards-2777
END:VEVENT

END:VCALENDAR
