BEGIN:VCALENDAR
VERSION:2.0
PRODID:-//ChamberMaster//Event Calendar 2.0//EN
METHOD:PUBLISH
X-PUBLISHED-TTL:P3D
REFRESH-INTERVAL:P3D
CALSCALE:GREGORIAN
BEGIN:VEVENT
DTSTART:20240510T160000Z
DTEND:20240510T210000Z
X-MICROSOFT-CDO-ALLDAYEVENT:FALSE
SUMMARY:American Red Cross Blood Drive
DESCRIPTION:American Red Cross Blood Drive
X-ALT-DESC;FMTTYPE=text/html:American Red Cross Blood Drive
LOCATION:Guilderland Town Hall 5209 Western Turnpike
UID:e.3231.2794
SEQUENCE:3
DTSTAMP:20260425T193751Z
URL:https://business.guilderlandchamber.com/events/details/american-red-cross-blood-drive-2794
END:VEVENT

END:VCALENDAR
