BEGIN:VCALENDAR
VERSION:2.0
PRODID:-//ChamberMaster//Event Calendar 2.0//EN
METHOD:PUBLISH
X-PUBLISHED-TTL:P3D
REFRESH-INTERVAL:P3D
CALSCALE:GREGORIAN
BEGIN:VEVENT
DTSTART:20240417T130000Z
DTEND:20240417T200000Z
X-MICROSOFT-CDO-ALLDAYEVENT:FALSE
SUMMARY:Albany Job Fair
DESCRIPTION:100+ Companies Hiring! Interview on the spot and find that job of your dreams! Next Albany Job Fair: Wednesday April 17\, 2024 Hours: 9:00 am   4:00 pm Free admission for all job seekers Holiday Inn Express Hotel & Suites Latham 400 Old Loudon Road\, Latham\, NY 12110 Free Parking\, Located on CDTA Bus Route #182
X-ALT-DESC;FMTTYPE=text/html:100+ Companies Hiring! Interview on the spot and find that job of your dreams! Next Albany Job Fair: Wednesday April 17\, 2024 Hours: 9:00 am &ndash\; 4:00 pm Free admission for all job seekers Holiday Inn Express Hotel &amp\; Suites Latham 400 Old Loudon Road\, Latham\, NY 12110 Free Parking\, Located on CDTA Bus Route #182
LOCATION:
UID:e.3231.2763
SEQUENCE:3
DTSTAMP:20260425T194411Z
URL:https://business.guilderlandchamber.com/events/details/albany-job-fair-04-17-2024-2763
END:VEVENT

END:VCALENDAR
