BEGIN:VCALENDAR
VERSION:2.0
PRODID:-//ChamberMaster//Event Calendar 2.0//EN
METHOD:PUBLISH
X-PUBLISHED-TTL:P3D
REFRESH-INTERVAL:P3D
CALSCALE:GREGORIAN
BEGIN:VEVENT
DTSTART:20240524T230000Z
DTEND:20240525T020000Z
X-MICROSOFT-CDO-ALLDAYEVENT:FALSE
SUMMARY:Albany Firebirds
DESCRIPTION:BELFOR PROPERTY RESTORATION WANTS YOU TO ATTEND AN ALBANY FIREBIRDS ARENA FOOTBALL GAME AS OUR GUEST AND PARTAKE IN ALL THE END ZONE EXCITEMENT ONLY ARENA\n\nFOOTBALL CAN. WE WILL BE IN A DESIGNATED PARTY BOX IN THE END ZONE.\n\n \n\nPACKAGE INCLUDES:\n\n\n	  TICKET TO THE GAME\n	  HOT DOGS\, BURGERS\, AND COOKIES\,\n	  1 DRINK TICKET\n	  ACCESS TO THE PARTY BOX AREA\n	  ACCESS TO THE FIELD AFTER THE GAME TO MEET THE PLAYERS\n	  BRING YOUR FAMILY & KIDS\n	  CHANCE TO WIN FIREBIRD PRIZES\n	  INVITED TO THE PRE GAME BLOCK PARTY\n\n\nTICKETS ARE LIMITED TO (4) FOR EACH REGISTRATION| PARKING IS NOT INCLUDED
X-ALT-DESC;FMTTYPE=text/html:<p class="p1" style="margin: 0px\; font-variant-numeric: normal\; font-variant-east-asian: normal\; font-variant-alternates: normal\; font-kerning: auto\; font-optical-sizing: auto\; font-feature-settings: normal\; font-variation-settings: normal\; font-variant-position: normal\; font-stretch: normal\; font-size: 12px\; line-height: normal\; font-family: Helvetica\;">BELFOR PROPERTY RESTORATION WANTS YOU TO ATTEND AN ALBANY FIREBIRDS ARENA FOOTBALL GAME AS OUR GUEST AND PARTAKE IN ALL THE END ZONE EXCITEMENT ONLY ARENA</p>\n\n<p class="p1" style="margin: 0px\; font-variant-numeric: normal\; font-variant-east-asian: normal\; font-variant-alternates: normal\; font-kerning: auto\; font-optical-sizing: auto\; font-feature-settings: normal\; font-variation-settings: normal\; font-variant-position: normal\; font-stretch: normal\; font-size: 12px\; line-height: normal\; font-family: Helvetica\;">FOOTBALL CAN. WE WILL BE IN A DESIGNATED PARTY BOX IN THE END ZONE.<br />\n&nbsp\;</p>\n\n<p class="p1" style="margin: 0px\; font-variant-numeric: normal\; font-variant-east-asian: normal\; font-variant-alternates: normal\; font-kerning: auto\; font-optical-sizing: auto\; font-feature-settings: normal\; font-variation-settings: normal\; font-variant-position: normal\; font-stretch: normal\; font-size: 12px\; line-height: normal\; font-family: Helvetica\;">PACKAGE INCLUDES:</p>\n\n<ul class="ul1" style="list-style-type: &quot\;?&nbsp\;&nbsp\;&quot\;\;">\n	<li class="li1" style="margin: 0px\; font-variant-numeric: normal\; font-variant-east-asian: normal\; font-variant-alternates: normal\; font-kerning: auto\; font-optical-sizing: auto\; font-feature-settings: normal\; font-variation-settings: normal\; font-variant-position: normal\; font-stretch: normal\; font-size: 12px\; line-height: normal\; font-family: Helvetica\;">&#65279\;&#65279\;TICKET TO THE GAME</li>\n	<li class="li1" style="margin: 0px\; font-variant-numeric: normal\; font-variant-east-asian: normal\; font-variant-alternates: normal\; font-kerning: auto\; font-optical-sizing: auto\; font-feature-settings: normal\; font-variation-settings: normal\; font-variant-position: normal\; font-stretch: normal\; font-size: 12px\; line-height: normal\; font-family: Helvetica\;">&#65279\;&#65279\;HOT DOGS\, BURGERS\, AND COOKIES\,</li>\n	<li class="li1" style="margin: 0px\; font-variant-numeric: normal\; font-variant-east-asian: normal\; font-variant-alternates: normal\; font-kerning: auto\; font-optical-sizing: auto\; font-feature-settings: normal\; font-variation-settings: normal\; font-variant-position: normal\; font-stretch: normal\; font-size: 12px\; line-height: normal\; font-family: Helvetica\;">&#65279\;&#65279\;1 DRINK TICKET</li>\n	<li class="li1" style="margin: 0px\; font-variant-numeric: normal\; font-variant-east-asian: normal\; font-variant-alternates: normal\; font-kerning: auto\; font-optical-sizing: auto\; font-feature-settings: normal\; font-variation-settings: normal\; font-variant-position: normal\; font-stretch: normal\; font-size: 12px\; line-height: normal\; font-family: Helvetica\;">&#65279\;&#65279\;ACCESS TO THE PARTY BOX AREA</li>\n	<li class="li1" style="margin: 0px\; font-variant-numeric: normal\; font-variant-east-asian: normal\; font-variant-alternates: normal\; font-kerning: auto\; font-optical-sizing: auto\; font-feature-settings: normal\; font-variation-settings: normal\; font-variant-position: normal\; font-stretch: normal\; font-size: 12px\; line-height: normal\; font-family: Helvetica\;">&#65279\;&#65279\;ACCESS TO THE FIELD AFTER THE GAME TO MEET THE PLAYERS</li>\n	<li class="li1" style="margin: 0px\; font-variant-numeric: normal\; font-variant-east-asian: normal\; font-variant-alternates: normal\; font-kerning: auto\; font-optical-sizing: auto\; font-feature-settings: normal\; font-variation-settings: normal\; font-variant-position: normal\; font-stretch: normal\; font-size: 12px\; line-height: normal\; font-family: Helvetica\;">&#65279\;&#65279\;BRING YOUR FAMILY &amp\; KIDS</li>\n	<li class="li1" style="margin: 0px\; font-variant-numeric: normal\; font-variant-east-asian: normal\; font-variant-alternates: normal\; font-kerning: auto\; font-optical-sizing: auto\; font-feature-settings: normal\; font-variation-settings: normal\; font-variant-position: normal\; font-stretch: normal\; font-size: 12px\; line-height: normal\; font-family: Helvetica\;">&#65279\;&#65279\;CHANCE TO WIN FIREBIRD PRIZES</li>\n	<li class="li1" style="margin: 0px\; font-variant-numeric: normal\; font-variant-east-asian: normal\; font-variant-alternates: normal\; font-kerning: auto\; font-optical-sizing: auto\; font-feature-settings: normal\; font-variation-settings: normal\; font-variant-position: normal\; font-stretch: normal\; font-size: 12px\; line-height: normal\; font-family: Helvetica\;">&#65279\;&#65279\;INVITED TO THE PRE GAME BLOCK PARTY</li>\n</ul>\n\n<p class="p1" style="margin: 0px\; font-variant-numeric: normal\; font-variant-east-asian: normal\; font-variant-alternates: normal\; font-kerning: auto\; font-optical-sizing: auto\; font-feature-settings: normal\; font-variation-settings: normal\; font-variant-position: normal\; font-stretch: normal\; font-size: 12px\; line-height: normal\; font-family: Helvetica\;">TICKETS ARE LIMITED TO (4) FOR EACH REGISTRATION| PARKING IS NOT INCLUDED</p>\n
LOCATION:
UID:e.3231.2797
SEQUENCE:3
DTSTAMP:20260425T181549Z
URL:https://business.guilderlandchamber.com/events/details/albany-firebirds-2797
END:VEVENT

END:VCALENDAR
