BEGIN:VCALENDAR
VERSION:2.0
PRODID:-//ChamberMaster//Event Calendar 2.0//EN
METHOD:PUBLISH
X-PUBLISHED-TTL:P3D
REFRESH-INTERVAL:P3D
CALSCALE:GREGORIAN
BEGIN:VEVENT
DTSTART:20240131T230000Z
DTEND:20240201T020000Z
X-MICROSOFT-CDO-ALLDAYEVENT:FALSE
SUMMARY:A Night at the Plaza
DESCRIPTION:Join us for in-store promos\, light refreshments and a raffle. Ticket will support local nonprofit The Caring Closet/
X-ALT-DESC;FMTTYPE=text/html:<font face="TTCommonsClassic"><span style="font-size: 26.6667px\;">Join us for in-store promos\, light refreshments and a raffle. Ticket will support local nonprofit The Caring Closet/</span></font>
LOCATION:Stuyvesant Plaza 1475 Western Ave Albany\, NY 12203
UID:e.3231.2750
SEQUENCE:3
DTSTAMP:20260426T001413Z
URL:https://business.guilderlandchamber.com/events/details/a-night-at-the-plaza-2750
END:VEVENT

END:VCALENDAR
