BEGIN:VCALENDAR
VERSION:2.0
PRODID:-//ChamberMaster//Event Calendar 2.0//EN
METHOD:PUBLISH
X-PUBLISHED-TTL:P3D
REFRESH-INTERVAL:P3D
CALSCALE:GREGORIAN
BEGIN:VEVENT
DTSTART:20231007T150000Z
DTEND:20231007T200000Z
X-MICROSOFT-CDO-ALLDAYEVENT:FALSE
SUMMARY:65th Anniversary at Robinson's Hardware
DESCRIPTION:Join us in Celebrating our 65th year serving the Local Community! We are a 3rd Generation Family Business with a focus on Customer Service!\n\nJoin us on October 7th for Vendor Demos\, Food Samples\, Raffles\, Product Demos\, Special Sales and Give-A-Ways!
X-ALT-DESC;FMTTYPE=text/html:<div class="xdj266r x11i5rnm xat24cr x1mh8g0r x1vvkbs" style="margin: 0px\; overflow-wrap: break-word\; font-family: system-ui\, -apple-system\, &quot\;system-ui&quot\;\, &quot\;.SFNSText-Regular&quot\;\, sans-serif\; color: rgb(5\, 5\, 5)\; font-size: 15px\; background-color: rgb(255\, 255\, 255)\;">Join us in Celebrating our 65th year serving the Local Community! We are a 3rd Generation Family Business with a focus on Customer Service!</div>\n\n<div class="x11i5rnm xat24cr x1mh8g0r x1vvkbs xtlvy1s" style="margin: 0.5em 0px 0px\; overflow-wrap: break-word\; font-family: system-ui\, -apple-system\, &quot\;system-ui&quot\;\, &quot\;.SFNSText-Regular&quot\;\, sans-serif\; color: rgb(5\, 5\, 5)\; font-size: 15px\; background-color: rgb(255\, 255\, 255)\;">Join us on October 7th for Vendor Demos\, Food Samples\, Raffles\, Product Demos\, Special Sales and Give-A-Ways!</div>\n
LOCATION:Robinson's Ace Hardware 1874 Western Ave Albany\, NY 12203
UID:e.3231.2664
SEQUENCE:3
DTSTAMP:20260426T043750Z
URL:https://business.guilderlandchamber.com/events/details/65th-anniversary-at-robinson-s-hardware-2664
END:VEVENT

END:VCALENDAR
