BEGIN:VCALENDAR
VERSION:2.0
PRODID:-//ChamberMaster//Event Calendar 2.0//EN
METHOD:PUBLISH
X-PUBLISHED-TTL:P3D
REFRESH-INTERVAL:P3D
CALSCALE:GREGORIAN
BEGIN:VEVENT
DTSTART;VALUE=DATE:20251026
DTEND;VALUE=DATE:20251027
TRANSP:TRANSPARENT
X-MICROSOFT-CDO-ALLDAYEVENT:TRUE
SUMMARY:2nd Annual Brewery and Winery Tour 2025
DESCRIPTION:Guilderland Chamber Pints and Pours Tour\n\nJoin us for a fun-filled day starting at the Northern Barrel for our Pints and Pours Tour event! The tour will visit many of our local breweries and wineries. This is your chance to sample some of the finest local brews and wine while mingling with fellow enthusiasts. Whether you're a beer connoisseur or a wine aficionado\, there's something here for everyone. Don't miss out on this exciting opportunity to taste and discover new favorites. Grab your friends and let's raise a glass together!
X-ALT-DESC;FMTTYPE=text/html:<p><strong><strong>Guilderland Chamber Pints and Pours Tour</strong></strong></p>\n\n<p>Join us for a fun-filled day starting at the <strong><strong>Northern Barrel</strong></strong> for our <strong><strong>Pints and Pours Tour</strong></strong> event! The tour will visit many&nbsp\;of our local breweries and wineries. This is your chance to sample some of the finest local brews and wine while mingling with fellow enthusiasts. Whether you&#39\;re a beer connoisseur or a wine aficionado\, there&#39\;s something here for everyone. Don&#39\;t miss out on this exciting opportunity to taste and discover new favorites. Grab your friends and let&#39\;s raise a glass together!</p>\n
LOCATION:The tour includes the following brewery and wineries\, Allied Brewing\, Altamont Vinyard & Winery\, Heldeberg Meadworks\, Indian Ladder\, Heldeberg Mountain Brewing\, Meadowdale Winery. We will have two different routes throughout Guilderland\, Altamont\, and the Hilltown. Start and ending point will be Northern Barrell.
UID:e.3231.3234
SEQUENCE:3
DTSTAMP:20260424T114304Z
URL:https://business.guilderlandchamber.com/events/details/2nd-annual-brewery-and-winery-tour-2025-3234
END:VEVENT

END:VCALENDAR
