BEGIN:VCALENDAR
VERSION:2.0
PRODID:-//ChamberMaster//Event Calendar 2.0//EN
METHOD:PUBLISH
X-PUBLISHED-TTL:P3D
REFRESH-INTERVAL:P3D
CALSCALE:GREGORIAN
BEGIN:VEVENT
DTSTART:20260617T213000Z
DTEND:20260618T000000Z
X-MICROSOFT-CDO-ALLDAYEVENT:FALSE
SUMMARY:2026 Annual Dinner
DESCRIPTION:The Guilderland Chamber of Commerce is pleased to invite you to take part in one of our most anticipated events of the year our Annual Dinner\, to be held this summer at the Colonie Country Club. This year's theme\, "Then & Now: A Celebration of Business Through Time\," honors the strength\, longevity\, and continued evolution of our local business community.\n\n    As a sponsor\, your organization will be prominently showcased before an audience of approximately 200 engaged business owners\, decision-makers\, and community stakeholders. Your support enhances the evening and directly advances the Chamber's mission to connect\, promote\, and advocate for the success and vitality of our local business community\, and we would be honored to have you join us as we celebrate where we've been and where we're going.\n\n    This year\, we are especially proud to recognize an outstanding group of award recipients who embody the spirit and values of our Chamber:\n\nBarry Richman- long-time business owner and dedicated supporter of the local\n\nbusiness community\n\nSunmark Credit Union- Honored as Best Place to Work for its commitment to\n\nemployees and the community\n\nBrian Carr- Monaco Cooper Lamme &amp\; Carr\, PLLC\, recognized as a Chamber Champion for his leadership and ongoing support\n\nJulie Tidd\, Ambassador of the Year\, whose dedication and generosity continue to strengthen connections across our membership\n\nThank you for your continued support of the Guilderland Chamber of Commerce. We look forward to the opportunity to partner with you for this special evening
X-ALT-DESC;FMTTYPE=text/html:<span style="font-family:arial\,sans-serif\;"><span style="font-size:13.5pt\;">&nbsp\; &nbsp\;The Guilderland Chamber of Commerce is pleased to invite you to take part in one of our most anticipated events of the year&mdash\;our Annual Dinner\, to be held this summer at the Colonie Country Club. This year&rsquo\;s theme\, &ldquo\;Then &amp\; Now: A Celebration of Business Through Time\,&rdquo\; honors the strength\, longevity\, and continued evolution of our local business community.</span></span><br />\n<span style="font-family:arial\,sans-serif\;"><span style="font-size:13.5pt\;">&nbsp\;&nbsp\;&nbsp\; As a sponsor\, your organization will be prominently showcased before an audience of approximately 200 engaged business owners\, decision-makers\, and community stakeholders. Your support enhances the evening and directly advances the Chamber&rsquo\;s mission to connect\, promote\, and advocate for the success and vitality of our local business community\, and we would be honored to have you join us as we celebrate where we&rsquo\;ve been&mdash\;and where we&rsquo\;re going.</span></span><br />\n<span style="font-family:arial\,sans-serif\;"><span style="font-size:13.5pt\;">&nbsp\;&nbsp\;&nbsp\; This year\, we are especially proud to recognize an outstanding group of award recipients who embody the spirit and values of our Chamber:</span></span><br />\n<span style="font-family:arial\,sans-serif\;"><span style="font-size:13.5pt\;">Barry Richman- long-time business owner and dedicated supporter of the local</span></span><br />\n<span style="font-family:arial\,sans-serif\;"><span style="font-size:13.5pt\;">business community</span></span><br />\n<span style="font-family:arial\,sans-serif\;"><span style="font-size:13.5pt\;">Sunmark Credit Union- Honored as Best Place to Work for its commitment to</span></span><br />\n<span style="font-family:arial\,sans-serif\;"><span style="font-size:13.5pt\;">employees and the community</span></span><br />\n<span style="font-family:arial\,sans-serif\;"><span style="font-size:13.5pt\;">Brian Carr- Monaco Cooper Lamme &amp\;amp\; Carr\, PLLC\, recognized as a Chamber Champion for his leadership and ongoing support</span></span><br />\n<span style="font-family:arial\,sans-serif\;"><span style="font-size:13.5pt\;">Julie Tidd\, Ambassador of the Year\, whose dedication and generosity continue to strengthen connections across our membership</span></span><br />\n<span style="font-family:arial\,sans-serif\;"><span style="font-size:13.5pt\;">Thank you for your continued support of the Guilderland Chamber of Commerce. We look forward to the opportunity to partner with you for this special evening</span></span>
LOCATION:The Beautiful Colonie Country Club- 13 Country Club Lane Voorheesville NY 12186
UID:e.3231.3412
SEQUENCE:3
DTSTAMP:20260423T193851Z
URL:https://business.guilderlandchamber.com/events/details/2026-annual-dinner-3412
END:VEVENT

END:VCALENDAR
