BEGIN:VCALENDAR
VERSION:2.0
PRODID:-//ChamberMaster//Event Calendar 2.0//EN
METHOD:PUBLISH
X-PUBLISHED-TTL:P3D
REFRESH-INTERVAL:P3D
CALSCALE:GREGORIAN
BEGIN:VEVENT
DTSTART;VALUE=DATE:20241011
DTEND;VALUE=DATE:20241204
TRANSP:TRANSPARENT
X-MICROSOFT-CDO-ALLDAYEVENT:TRUE
SUMMARY:2025 Business and Community Directory Ad
DESCRIPTION:We are excited to announce the 2025 Business & Community Directory. This full-color publication will feature all the best of the Guilderland\, Altamont & Voorheesville Communities. Our directory will highlight our many shopping\, dining\, and recreational opportunities. \n\n\n\nFull Detailed Information Available On Our Website. Click the link below:
X-ALT-DESC;FMTTYPE=text/html:We are excited to announce the 2025 Business &amp\; Community Directory. This full-color publication will feature all the best of the Guilderland\, Altamont &amp\; Voorheesville Communities. Our directory will highlight our many shopping\, dining\, and recreational opportunities.&nbsp\;<br />\n<br />\n<strong>Full Detailed Information Available On Our Website. Click the link below:</strong>
LOCATION:
UID:e.3231.2842
SEQUENCE:3
DTSTAMP:20260425T023953Z
URL:https://business.guilderlandchamber.com/events/details/2025-business-and-community-directory-ad-2842
END:VEVENT

END:VCALENDAR
