BEGIN:VCALENDAR
VERSION:2.0
PRODID:-//ChamberMaster//Event Calendar 2.0//EN
METHOD:PUBLISH
X-PUBLISHED-TTL:P3D
REFRESH-INTERVAL:P3D
CALSCALE:GREGORIAN
BEGIN:VEVENT
DTSTART;VALUE=DATE:20231005
DTEND;VALUE=DATE:20231202
TRANSP:TRANSPARENT
X-MICROSOFT-CDO-ALLDAYEVENT:TRUE
SUMMARY:2024 Business & Community Directory Ads
DESCRIPTION:We are excited to announce the 2024 Business & Community Directory. This full-color publication will feature all the best of the Guilderland\, Altamont & Voorheesville Communities. Our directory will highlight our many shopping\, dining\, and recreational opportunities. \n\n\n\nFull Detailed Information Available On Our Website. Click the link below:\n\nhttps://guilderlandchamber.com/2024-business-community-directory/
X-ALT-DESC;FMTTYPE=text/html:We are excited to announce the 2024 Business &amp\; Community Directory. This full-color publication will feature all the best of the Guilderland\, Altamont &amp\; Voorheesville Communities. Our directory will highlight our many shopping\, dining\, and recreational opportunities.&nbsp\;<br />\n<br />\n<strong>Full Detailed Information Available On Our Website. Click the link below:<br />\n<a href="https://guilderlandchamber.com/2024-business-community-directory/">https://guilderlandchamber.com/2024-business-community-directory/</a></strong>
LOCATION:
UID:e.3231.2688
SEQUENCE:3
DTSTAMP:20260426T014932Z
URL:https://business.guilderlandchamber.com/events/details/2024-business-community-directory-ads-2688
END:VEVENT

END:VCALENDAR
